BEGIN:VCALENDAR
VERSION:2.0
PRODID:-//Delaware Township - ECPv6.15.18//NONSGML v1.0//EN
CALSCALE:GREGORIAN
METHOD:PUBLISH
X-ORIGINAL-URL:https://delawaretownship.org
X-WR-CALDESC:Events for Delaware Township
REFRESH-INTERVAL;VALUE=DURATION:PT1H
X-Robots-Tag:noindex
X-PUBLISHED-TTL:PT1H
BEGIN:VTIMEZONE
TZID:UTC
BEGIN:STANDARD
TZOFFSETFROM:+0000
TZOFFSETTO:+0000
TZNAME:UTC
DTSTART:20250101T000000
END:STANDARD
END:VTIMEZONE
BEGIN:VEVENT
DTSTART;TZID=UTC:20261005T160000
DTEND;TZID=UTC:20261005T170000
DTSTAMP:20260423T000512
CREATED:20260113T164905Z
LAST-MODIFIED:20260113T164905Z
UID:2112-1791216000-1791219600@delawaretownship.org
SUMMARY:Supervisors Meeting
DESCRIPTION:
URL:https://delawaretownship.org/event/supervisors-meeting-22
END:VEVENT
BEGIN:VEVENT
DTSTART;TZID=UTC:20261015T190000
DTEND;TZID=UTC:20261015T200000
DTSTAMP:20260423T000512
CREATED:20260113T165943Z
LAST-MODIFIED:20260113T165943Z
UID:2136-1792090800-1792094400@delawaretownship.org
SUMMARY:Planning Commission (If Needed)
DESCRIPTION:
URL:https://delawaretownship.org/event/planning-commission-if-needed-20
END:VEVENT
BEGIN:VEVENT
DTSTART;TZID=UTC:20261102T160000
DTEND;TZID=UTC:20261102T170000
DTSTAMP:20260423T000512
CREATED:20260113T164946Z
LAST-MODIFIED:20260113T164946Z
UID:2114-1793635200-1793638800@delawaretownship.org
SUMMARY:Supervisors Meeting
DESCRIPTION:
URL:https://delawaretownship.org/event/supervisors-meeting-23
END:VEVENT
BEGIN:VEVENT
DTSTART;TZID=UTC:20261119T190000
DTEND;TZID=UTC:20261119T200000
DTSTAMP:20260423T000512
CREATED:20260113T170036Z
LAST-MODIFIED:20260113T170036Z
UID:2138-1795114800-1795118400@delawaretownship.org
SUMMARY:Planning Commission (If Needed)
DESCRIPTION:
URL:https://delawaretownship.org/event/planning-commission-if-needed-21
END:VEVENT
BEGIN:VEVENT
DTSTART;TZID=UTC:20261207T160000
DTEND;TZID=UTC:20261207T170000
DTSTAMP:20260423T000512
CREATED:20260113T165022Z
LAST-MODIFIED:20260113T165022Z
UID:2116-1796659200-1796662800@delawaretownship.org
SUMMARY:Supervisors Meeting
DESCRIPTION:
URL:https://delawaretownship.org/event/supervisors-meeting-24
END:VEVENT
BEGIN:VEVENT
DTSTART;TZID=UTC:20261217T190000
DTEND;TZID=UTC:20261217T200000
DTSTAMP:20260423T000512
CREATED:20260113T170120Z
LAST-MODIFIED:20260113T170120Z
UID:2140-1797534000-1797537600@delawaretownship.org
SUMMARY:Planning Commission (If Needed)
DESCRIPTION:
URL:https://delawaretownship.org/event/planning-commission-if-needed-22
END:VEVENT
END:VCALENDAR