BEGIN:VCALENDAR
VERSION:2.0
PRODID:-//Delaware Township - ECPv6.15.18//NONSGML v1.0//EN
CALSCALE:GREGORIAN
METHOD:PUBLISH
X-WR-CALNAME:Delaware Township
X-ORIGINAL-URL:https://delawaretownship.org
X-WR-CALDESC:Events for Delaware Township
REFRESH-INTERVAL;VALUE=DURATION:PT1H
X-Robots-Tag:noindex
X-PUBLISHED-TTL:PT1H
BEGIN:VTIMEZONE
TZID:UTC
BEGIN:STANDARD
TZOFFSETFROM:+0000
TZOFFSETTO:+0000
TZNAME:UTC
DTSTART:20230101T000000
END:STANDARD
END:VTIMEZONE
BEGIN:VEVENT
DTSTART;TZID=UTC:20250106T170000
DTEND;TZID=UTC:20250106T183000
DTSTAMP:20260423T035718
CREATED:20241203T121630Z
LAST-MODIFIED:20241203T121630Z
UID:1608-1736182800-1736188200@delawaretownship.org
SUMMARY:Supervisors Meeting
DESCRIPTION:
URL:https://delawaretownship.org/event/supervisors-meeting-2
END:VEVENT
BEGIN:VEVENT
DTSTART;TZID=UTC:20241210T190000
DTEND;TZID=UTC:20241210T203000
DTSTAMP:20260423T035718
CREATED:20241119T131316Z
LAST-MODIFIED:20241119T131436Z
UID:1481-1733857200-1733862600@delawaretownship.org
SUMMARY:Zoning Hearing Board
DESCRIPTION:
URL:https://delawaretownship.org/event/zoning-hearing-board
LOCATION:Delaware Township\, 1960 Eighth Street Drive\, Watsontown\, PA\, 17777\, United States
END:VEVENT
BEGIN:VEVENT
DTSTART;TZID=UTC:20241202T183000
DTEND;TZID=UTC:20241202T200000
DTSTAMP:20260423T035718
CREATED:20241119T130927Z
LAST-MODIFIED:20241202T231120Z
UID:1476-1733164200-1733169600@delawaretownship.org
SUMMARY:Supervisors Meeting
DESCRIPTION:
URL:https://delawaretownship.org/event/supervisors-meeting
LOCATION:Delaware Township\, 1960 Eighth Street Drive\, Watsontown\, PA\, 17777\, United States
END:VEVENT
BEGIN:VEVENT
DTSTART;TZID=UTC:20241121T190000
DTEND;TZID=UTC:20241121T200000
DTSTAMP:20260423T035718
CREATED:20241119T131120Z
LAST-MODIFIED:20241119T131515Z
UID:1479-1732215600-1732219200@delawaretownship.org
SUMMARY:Planning Commission
DESCRIPTION:
URL:https://delawaretownship.org/event/planning-commission
LOCATION:Delaware Township\, 1960 Eighth Street Drive\, Watsontown\, PA\, 17777\, United States
END:VEVENT
END:VCALENDAR