BEGIN:VCALENDAR
VERSION:2.0
PRODID:-//Delaware Township - ECPv6.15.18//NONSGML v1.0//EN
CALSCALE:GREGORIAN
METHOD:PUBLISH
X-ORIGINAL-URL:https://delawaretownship.org
X-WR-CALDESC:Events for Delaware Township
REFRESH-INTERVAL;VALUE=DURATION:PT1H
X-Robots-Tag:noindex
X-PUBLISHED-TTL:PT1H
BEGIN:VTIMEZONE
TZID:UTC
BEGIN:STANDARD
TZOFFSETFROM:+0000
TZOFFSETTO:+0000
TZNAME:UTC
DTSTART:20240101T000000
END:STANDARD
END:VTIMEZONE
BEGIN:VEVENT
DTSTART;TZID=UTC:20251120T190000
DTEND;TZID=UTC:20251120T203000
DTSTAMP:20260422T221451
CREATED:20250115T183514Z
LAST-MODIFIED:20250115T183514Z
UID:1704-1763665200-1763670600@delawaretownship.org
SUMMARY:Planning Commission (If needed)
DESCRIPTION:
URL:https://delawaretownship.org/event/planning-commission-if-needed-10
END:VEVENT
BEGIN:VEVENT
DTSTART;TZID=UTC:20251118T190000
DTEND;TZID=UTC:20251118T203000
DTSTAMP:20260422T221451
CREATED:20250115T184235Z
LAST-MODIFIED:20250115T184235Z
UID:1726-1763492400-1763497800@delawaretownship.org
SUMMARY:Zoning Hearing Board (If needed)
DESCRIPTION:
URL:https://delawaretownship.org/event/zoning-hearing-board-if-needed-10
END:VEVENT
BEGIN:VEVENT
DTSTART;TZID=UTC:20251103T183000
DTEND;TZID=UTC:20251103T200000
DTSTAMP:20260422T221451
CREATED:20250107T124458Z
LAST-MODIFIED:20250107T124458Z
UID:1673-1762194600-1762200000@delawaretownship.org
SUMMARY:Supervisors Meeting
DESCRIPTION:
URL:https://delawaretownship.org/event/supervisors-meeting-12
END:VEVENT
BEGIN:VEVENT
DTSTART;TZID=UTC:20251021T190000
DTEND;TZID=UTC:20251021T203000
DTSTAMP:20260422T221451
CREATED:20250115T184153Z
LAST-MODIFIED:20250115T184153Z
UID:1724-1761073200-1761078600@delawaretownship.org
SUMMARY:Zoning Hearing Board (If needed)
DESCRIPTION:
URL:https://delawaretownship.org/event/zoning-hearing-board-if-needed-9
END:VEVENT
BEGIN:VEVENT
DTSTART;TZID=UTC:20251016T190000
DTEND;TZID=UTC:20251016T203000
DTSTAMP:20260422T221451
CREATED:20250115T183438Z
LAST-MODIFIED:20250115T183438Z
UID:1702-1760641200-1760646600@delawaretownship.org
SUMMARY:Planning Commission (If needed)
DESCRIPTION:
URL:https://delawaretownship.org/event/planning-commission-if-needed-9
END:VEVENT
BEGIN:VEVENT
DTSTART;TZID=UTC:20251006T183000
DTEND;TZID=UTC:20251006T200000
DTSTAMP:20260422T221451
CREATED:20250107T124420Z
LAST-MODIFIED:20250107T124420Z
UID:1671-1759775400-1759780800@delawaretownship.org
SUMMARY:Supervisors Meeting
DESCRIPTION:
URL:https://delawaretownship.org/event/supervisors-meeting-11
END:VEVENT
BEGIN:VEVENT
DTSTART;TZID=UTC:20250918T190000
DTEND;TZID=UTC:20250918T203000
DTSTAMP:20260422T221451
CREATED:20250115T183359Z
LAST-MODIFIED:20250115T183359Z
UID:1700-1758222000-1758227400@delawaretownship.org
SUMMARY:Planning Commission (If needed)
DESCRIPTION:
URL:https://delawaretownship.org/event/planning-commission-if-needed-8
END:VEVENT
BEGIN:VEVENT
DTSTART;TZID=UTC:20250916T190000
DTEND;TZID=UTC:20250916T203000
DTSTAMP:20260422T221451
CREATED:20250115T184113Z
LAST-MODIFIED:20250115T184113Z
UID:1722-1758049200-1758054600@delawaretownship.org
SUMMARY:Zoning Hearing Board (If needed)
DESCRIPTION:
URL:https://delawaretownship.org/event/zoning-hearing-board-if-needed-8
END:VEVENT
BEGIN:VEVENT
DTSTART;TZID=UTC:20250902T183000
DTEND;TZID=UTC:20250902T200000
DTSTAMP:20260422T221451
CREATED:20250107T124345Z
LAST-MODIFIED:20250107T124345Z
UID:1669-1756837800-1756843200@delawaretownship.org
SUMMARY:Supervisors Meeting
DESCRIPTION:
URL:https://delawaretownship.org/event/supervisors-meeting-10
END:VEVENT
BEGIN:VEVENT
DTSTART;TZID=UTC:20250821T190000
DTEND;TZID=UTC:20250821T203000
DTSTAMP:20260422T221451
CREATED:20250115T183319Z
LAST-MODIFIED:20250115T183319Z
UID:1698-1755802800-1755808200@delawaretownship.org
SUMMARY:Planning Commission (If needed)
DESCRIPTION:
URL:https://delawaretownship.org/event/planning-commission-if-needed-7
END:VEVENT
BEGIN:VEVENT
DTSTART;TZID=UTC:20250819T190000
DTEND;TZID=UTC:20250819T203000
DTSTAMP:20260422T221451
CREATED:20250115T184032Z
LAST-MODIFIED:20250115T184032Z
UID:1720-1755630000-1755635400@delawaretownship.org
SUMMARY:Zoning Hearing Board (If needed)
DESCRIPTION:
URL:https://delawaretownship.org/event/zoning-hearing-board-if-needed-7
END:VEVENT
BEGIN:VEVENT
DTSTART;TZID=UTC:20250804T183000
DTEND;TZID=UTC:20250804T200000
DTSTAMP:20260422T221451
CREATED:20250107T124304Z
LAST-MODIFIED:20250107T124304Z
UID:1667-1754332200-1754337600@delawaretownship.org
SUMMARY:Supervisors Meeting
DESCRIPTION:
URL:https://delawaretownship.org/event/supervisors-meeting-9
END:VEVENT
BEGIN:VEVENT
DTSTART;TZID=UTC:20250717T190000
DTEND;TZID=UTC:20250717T203000
DTSTAMP:20260422T221451
CREATED:20250115T183239Z
LAST-MODIFIED:20250115T183239Z
UID:1696-1752778800-1752784200@delawaretownship.org
SUMMARY:Planning Commission (If needed)
DESCRIPTION:
URL:https://delawaretownship.org/event/planning-commission-if-needed-6
END:VEVENT
BEGIN:VEVENT
DTSTART;TZID=UTC:20250715T190000
DTEND;TZID=UTC:20250715T203000
DTSTAMP:20260422T221451
CREATED:20250115T183951Z
LAST-MODIFIED:20250115T183951Z
UID:1718-1752606000-1752611400@delawaretownship.org
SUMMARY:Zoning Hearing Board (If needed)
DESCRIPTION:
URL:https://delawaretownship.org/event/zoning-hearing-board-if-needed-6
END:VEVENT
BEGIN:VEVENT
DTSTART;TZID=UTC:20250707T183000
DTEND;TZID=UTC:20250707T200000
DTSTAMP:20260422T221451
CREATED:20250107T124227Z
LAST-MODIFIED:20250107T124227Z
UID:1665-1751913000-1751918400@delawaretownship.org
SUMMARY:Supervisors Meeting
DESCRIPTION:
URL:https://delawaretownship.org/event/supervisors-meeting-8
END:VEVENT
BEGIN:VEVENT
DTSTART;TZID=UTC:20250619T190000
DTEND;TZID=UTC:20250619T203000
DTSTAMP:20260422T221451
CREATED:20250115T183159Z
LAST-MODIFIED:20250115T183159Z
UID:1694-1750359600-1750365000@delawaretownship.org
SUMMARY:Planning Commission (If needed)
DESCRIPTION:
URL:https://delawaretownship.org/event/planning-commission-if-needed-5
END:VEVENT
BEGIN:VEVENT
DTSTART;TZID=UTC:20250617T190000
DTEND;TZID=UTC:20250617T203000
DTSTAMP:20260422T221451
CREATED:20250115T183912Z
LAST-MODIFIED:20250115T183912Z
UID:1716-1750186800-1750192200@delawaretownship.org
SUMMARY:Zoning Hearing Board (If needed)
DESCRIPTION:
URL:https://delawaretownship.org/event/zoning-hearing-board-if-needed-5
END:VEVENT
BEGIN:VEVENT
DTSTART;TZID=UTC:20250609T183000
DTEND;TZID=UTC:20250609T200000
DTSTAMP:20260422T221451
CREATED:20250107T124149Z
LAST-MODIFIED:20250513T113409Z
UID:1663-1749493800-1749499200@delawaretownship.org
SUMMARY:Supervisors Meeting
DESCRIPTION:
URL:https://delawaretownship.org/event/supervisors-meeting-7
END:VEVENT
BEGIN:VEVENT
DTSTART;TZID=UTC:20250520T190000
DTEND;TZID=UTC:20250520T203000
DTSTAMP:20260422T221451
CREATED:20250115T183833Z
LAST-MODIFIED:20250115T183833Z
UID:1714-1747767600-1747773000@delawaretownship.org
SUMMARY:Zoning Hearing Board (If needed)
DESCRIPTION:
URL:https://delawaretownship.org/event/zoning-hearing-board-if-needed-4
END:VEVENT
BEGIN:VEVENT
DTSTART;TZID=UTC:20250515T190000
DTEND;TZID=UTC:20250515T203000
DTSTAMP:20260422T221451
CREATED:20250115T183115Z
LAST-MODIFIED:20250115T183115Z
UID:1692-1747335600-1747341000@delawaretownship.org
SUMMARY:Planning Commission (If needed)
DESCRIPTION:
URL:https://delawaretownship.org/event/planning-commission-if-needed-4
END:VEVENT
BEGIN:VEVENT
DTSTART;TZID=UTC:20250512T183000
DTEND;TZID=UTC:20250512T200000
DTSTAMP:20260422T221451
CREATED:20250107T124114Z
LAST-MODIFIED:20250107T124114Z
UID:1661-1747074600-1747080000@delawaretownship.org
SUMMARY:Supervisors Meeting
DESCRIPTION:
URL:https://delawaretownship.org/event/supervisors-meeting-6
END:VEVENT
BEGIN:VEVENT
DTSTART;TZID=UTC:20250417T190000
DTEND;TZID=UTC:20250417T203000
DTSTAMP:20260422T221451
CREATED:20250115T183033Z
LAST-MODIFIED:20250115T183033Z
UID:1690-1744916400-1744921800@delawaretownship.org
SUMMARY:Planning Commission (If needed)
DESCRIPTION:
URL:https://delawaretownship.org/event/planning-commission-if-needed-3
END:VEVENT
BEGIN:VEVENT
DTSTART;TZID=UTC:20250415T190000
DTEND;TZID=UTC:20250415T203000
DTSTAMP:20260422T221451
CREATED:20250115T183753Z
LAST-MODIFIED:20250115T183753Z
UID:1712-1744743600-1744749000@delawaretownship.org
SUMMARY:Zoning Hearing Board (If needed)
DESCRIPTION:
URL:https://delawaretownship.org/event/zoning-hearing-board-if-needed-3
END:VEVENT
BEGIN:VEVENT
DTSTART;TZID=UTC:20250407T183000
DTEND;TZID=UTC:20250407T200000
DTSTAMP:20260422T221451
CREATED:20250107T124039Z
LAST-MODIFIED:20250107T124039Z
UID:1659-1744050600-1744056000@delawaretownship.org
SUMMARY:Supervisors Meeting
DESCRIPTION:
URL:https://delawaretownship.org/event/supervisors-meeting-5
END:VEVENT
BEGIN:VEVENT
DTSTART;TZID=UTC:20250320T190000
DTEND;TZID=UTC:20250320T203000
DTSTAMP:20260422T221451
CREATED:20250115T182945Z
LAST-MODIFIED:20250115T182945Z
UID:1688-1742497200-1742502600@delawaretownship.org
SUMMARY:Planning Commission (If needed)
DESCRIPTION:
URL:https://delawaretownship.org/event/planning-commission-if-needed-2
END:VEVENT
BEGIN:VEVENT
DTSTART;TZID=UTC:20250318T190000
DTEND;TZID=UTC:20250318T203000
DTSTAMP:20260422T221451
CREATED:20250115T184544Z
LAST-MODIFIED:20250115T184544Z
UID:1730-1742324400-1742329800@delawaretownship.org
SUMMARY:Zoning Hearing Board (If needed)
DESCRIPTION:
URL:https://delawaretownship.org/event/zoning-hearing-board-if-needed
END:VEVENT
BEGIN:VEVENT
DTSTART;TZID=UTC:20250303T183000
DTEND;TZID=UTC:20250303T200000
DTSTAMP:20260422T221451
CREATED:20250107T124004Z
LAST-MODIFIED:20250107T124004Z
UID:1657-1741026600-1741032000@delawaretownship.org
SUMMARY:Supervisors Meeting
DESCRIPTION:
URL:https://delawaretownship.org/event/supervisors-meeting-4
END:VEVENT
BEGIN:VEVENT
DTSTART;TZID=UTC:20250220T190000
DTEND;TZID=UTC:20250220T203000
DTSTAMP:20260422T221451
CREATED:20250115T182758Z
LAST-MODIFIED:20250115T182758Z
UID:1686-1740078000-1740083400@delawaretownship.org
SUMMARY:Planning Commission (If needed)
DESCRIPTION:
URL:https://delawaretownship.org/event/planning-commission-if-needed
END:VEVENT
BEGIN:VEVENT
DTSTART;TZID=UTC:20250218T190000
DTEND;TZID=UTC:20250218T203000
DTSTAMP:20260422T221451
CREATED:20250115T183711Z
LAST-MODIFIED:20250115T183711Z
UID:1710-1739905200-1739910600@delawaretownship.org
SUMMARY:Zoning Hearing Board (If needed)
DESCRIPTION:
URL:https://delawaretownship.org/event/zoning-hearing-board-if-needed-2
END:VEVENT
BEGIN:VEVENT
DTSTART;TZID=UTC:20250203T183000
DTEND;TZID=UTC:20250203T200000
DTSTAMP:20260422T221451
CREATED:20250107T123925Z
LAST-MODIFIED:20250107T123925Z
UID:1655-1738607400-1738612800@delawaretownship.org
SUMMARY:Supervisors Meeting
DESCRIPTION:
URL:https://delawaretownship.org/event/supervisors-meeting-3
END:VEVENT
END:VCALENDAR